BEGIN:VCALENDAR
VERSION:2.0
METHOD:PUBLISH
BEGIN:VEVENT
UID:WILD_APRICOT_EVENT_2244430_SESSION_1
DTSTART:20160524T000000Z
DTEND:20160524T020000Z
SUMMARY:QBIC Commercial Contracts Committee Meeting
LOCATION:QBIC Office
DESCRIPTION:https://www.qbic.com.au/event-2244430\n\nQBIC Commercial Contracts Committee Meeting\n  Where: QBIC Office - 6/96 Cleveland St\, Stones Corner\, QLD 4120\n  When: 24th May 2016\n  Contact: Sarah Muirhead\n
DTSTAMP:20200229T145556Z
END:VEVENT
END:VCALENDAR
