BEGIN:VCALENDAR
VERSION:2.0
METHOD:PUBLISH
BEGIN:VEVENT
UID:WILD_APRICOT_EVENT_2245260_SESSION_1
DTSTART:20160524T030000Z
DTEND:20160524T050000Z
SUMMARY:QBIC Long Distance Tour & Charter Committee Meeting
LOCATION:QBIC Office
DESCRIPTION:https://www.qbic.com.au/event-2245260\n\nQBIC Long Distance Tour & Charter Committee Meeting\n  Where: QBIC Office - 6/96 Cleveland St\, Stones Corner\, QLD 4120\n  When: 24th May 2016\n  Contact: Sarah Muirhead\n
DTSTAMP:20260424T163606Z
END:VEVENT
END:VCALENDAR
