BEGIN:VCALENDAR
VERSION:2.0
METHOD:PUBLISH
BEGIN:VEVENT
UID:WILD_APRICOT_EVENT_2245324_SESSION_1
DTSTART:20160524T220000Z
DTEND:20160525T070000Z
SUMMARY:QBIC Management Committee Meeting
LOCATION:QBIC office
DESCRIPTION:https://www.qbic.com.au/event-2245324\n\nQBIC Management Committee Meeting\n  Where: QBIC Office - 6/96 Cleveland St\, Stones Corner\, QLD 4120\n  When: 25th May 2016\n  Contact: Sarah Muirhead\n  \n\n
DTSTAMP:20200229T145525Z
END:VEVENT
END:VCALENDAR
