BEGIN:VCALENDAR
VERSION:2.0
METHOD:PUBLISH
BEGIN:VEVENT
UID:WILD_APRICOT_EVENT_2245333_SESSION_1
DTSTART:20160622T020000Z
DTEND:20160622T050000Z
SUMMARY:QBIC Management Committee Meeting
LOCATION:QBIC office
DESCRIPTION:https://www.qbic.com.au/event-2245333\n\nQBIC Management Committee Meeting\n  Where: QBIC Office - 6/96 Cleveland St\, Stones Corner\, QLD 4120\n  When: 22nd June 2016\n  Contact: Sarah Muirhead\n  \n\n
DTSTAMP:20260424T161417Z
END:VEVENT
END:VCALENDAR
