BEGIN:VCALENDAR
VERSION:2.0
METHOD:PUBLISH
BEGIN:VEVENT
UID:WILD_APRICOT_EVENT_2245335_SESSION_1
DTSTART:20160621T230000Z
DTEND:20160622T010000Z
SUMMARY:QBIC School Services Committee Meeting
LOCATION:QBIC office
DESCRIPTION:https://www.qbic.com.au/event-2245335\n\nQBIC School Services Committee Meeting\n  Where: QBIC Office - 6/96 Cleveland St\, Stones Corner\, QLD 4120\n  When: 22nd June 2016\n  Contact: Sarah Muirhead\n  \n\n
DTSTAMP:20200229T145421Z
END:VEVENT
END:VCALENDAR
