BEGIN:VCALENDAR
VERSION:2.0
METHOD:PUBLISH
BEGIN:VEVENT
UID:WILD_APRICOT_EVENT_2245339_SESSION_1
DTSTART:20160621T030000Z
DTEND:20160621T050000Z
SUMMARY:QBIC Long Distance Tour & Charter Committee Meeting
LOCATION:QBIC office
DESCRIPTION:https://www.qbic.com.au/event-2245339\n\nQBIC Long Distance Tour & Charter Committee Meeting\n  Where: QBIC Office - 6/96 Cleveland St\, Stones Corner\, QLD 4120\n  When: 28th June 2016\n  Contact: Sarah Muirhead\n  \n\n
DTSTAMP:20200229T145433Z
END:VEVENT
END:VCALENDAR
