BEGIN:VCALENDAR
VERSION:2.0
METHOD:PUBLISH
BEGIN:VEVENT
UID:WILD_APRICOT_EVENT_2245341_SESSION_1
DTSTART:20160715T040000Z
DTEND:20160715T060000Z
SUMMARY:QBIC Partner Forum
LOCATION:Cairns
DESCRIPTION:https://www.qbic.com.au/event-2245341\n\nQBIC Partner Forum - Cairns\n  More details to follow.\n
DTSTAMP:20200229T145354Z
END:VEVENT
END:VCALENDAR
