BEGIN:VCALENDAR
VERSION:2.0
METHOD:PUBLISH
BEGIN:VEVENT
UID:WILD_APRICOT_EVENT_2245342_SESSION_1
DTSTART:20160715T233000Z
DTEND:20160716T023000Z
SUMMARY:QBIC Regional Members Forum
LOCATION:Mareeba
DESCRIPTION:https://www.qbic.com.au/event-2245342\n\nQBIC Regional Members Forum - Mareeba.\n  More details to follow.\n
DTSTAMP:20200229T145343Z
END:VEVENT
END:VCALENDAR
