BEGIN:VCALENDAR
VERSION:2.0
METHOD:PUBLISH
BEGIN:VEVENT
UID:WILD_APRICOT_EVENT_2245347_SESSION_1
DTSTART:20160726T030000Z
DTEND:20160726T050000Z
SUMMARY:QBIC Long Distance Tour & Charter Committee Meeting
LOCATION:QBIC office
DESCRIPTION:https://www.qbic.com.au/event-2245347\n\nQBIC Long Distance Tour & Charter Committee Meeting\n  Where: QBIC Office - 6/96 Cleveland St\, Stones Corner\, QLD 4120\n  When: 26th July 2016\n  Contact: Sarah Muirhead\n  \n\n
DTSTAMP:20200229T145308Z
END:VEVENT
END:VCALENDAR
