BEGIN:VCALENDAR
VERSION:2.0
METHOD:PUBLISH
BEGIN:VEVENT
UID:WILD_APRICOT_EVENT_2245348_SESSION_1
DTSTART:20160727T020000Z
DTEND:20160727T050000Z
SUMMARY:QBIC Management Committee Meeting
LOCATION:QBIC office
DESCRIPTION:https://www.qbic.com.au/event-2245348\n\nQBIC Management Committee Meeting\n  Where: QBIC Office - 6/96 Cleveland St\, Stones Corner\, QLD 4120\n  When: 27th July 2016\n  Contact: Sarah Muirhead\n  \n\n
DTSTAMP:20200229T145229Z
END:VEVENT
END:VCALENDAR
