BEGIN:VCALENDAR
VERSION:2.0
METHOD:PUBLISH
BEGIN:VEVENT
UID:WILD_APRICOT_EVENT_2245349_SESSION_1
DTSTART:20160726T230000Z
DTEND:20160727T010000Z
SUMMARY:QBIC School Services Committee Meeting
LOCATION:QBIC office
DESCRIPTION:https://www.qbic.com.au/event-2245349\n\nQBIC School Services Committee Meeting\n  Where: QBIC Office - 6/96 Cleveland St\, Stones Corner\, QLD 4120\n  When: 27th July 2016\n  Contact: Sarah Muirhead\n  \n\n
DTSTAMP:20200229T145244Z
END:VEVENT
END:VCALENDAR
