BEGIN:VCALENDAR
VERSION:2.0
METHOD:PUBLISH
BEGIN:VEVENT
UID:WILD_APRICOT_EVENT_2259256_SESSION_1
DTSTART:20160823T030000Z
DTEND:20160823T050000Z
SUMMARY:QBIC Long Distance Tour & Charter Committee Meeting
LOCATION:QBIC Office
DESCRIPTION:https://www.qbic.com.au/event-2259256\n\nLong Distance Tour & Charter Committee Meeting\n  Where: QBIC Office - 6/96 Cleveland St\, Stones Corner\, QLD 4120\n  When: 23rd August 2016\n  Contact: Sarah Muirhead\n  \n\n
DTSTAMP:20200229T145159Z
END:VEVENT
END:VCALENDAR
