BEGIN:VCALENDAR
VERSION:2.0
METHOD:PUBLISH
BEGIN:VEVENT
UID:WILD_APRICOT_EVENT_2259260_SESSION_1
DTSTART:20160908T013000Z
DTEND:20160908T033000Z
SUMMARY:QBIC Partner Forum Brisbane
LOCATION:Brisbane
DESCRIPTION:https://www.qbic.com.au/event-2259260\n\nQBIC Partner Forum Brisbane.\n  More information to follow.\n
DTSTAMP:20200229T145120Z
END:VEVENT
END:VCALENDAR
