BEGIN:VCALENDAR
VERSION:2.0
METHOD:PUBLISH
BEGIN:VEVENT
UID:WILD_APRICOT_EVENT_2259261_SESSION_1
DTSTART:20160909T233000Z
DTEND:20160910T023000Z
SUMMARY:QBIC Partner Forum Chinchilla
LOCATION:Chinchilla
DESCRIPTION:https://www.qbic.com.au/event-2259261\n\nQBIC Partner Forum Chinchilla\n  More information to follow.\n
DTSTAMP:20200229T145108Z
END:VEVENT
END:VCALENDAR
