BEGIN:VCALENDAR
VERSION:2.0
METHOD:PUBLISH
BEGIN:VEVENT
UID:WILD_APRICOT_EVENT_2259265_SESSION_1
DTSTART:20160927T030000Z
DTEND:20160927T050000Z
SUMMARY:QBIC Long Distance Tour & Charter Committee Meeting
LOCATION:QBIC Office
DESCRIPTION:https://www.qbic.com.au/event-2259265\n\nQBIC Long Distance Tour & Charters Committee Meeting\n  Where: QBIC Office - 6/96 Cleveland St\, Stones Corner\, QLD 4120\n  When: 27th September 2016\n  Contact: Sarah Muirhead\n  \n\n
DTSTAMP:20200229T145042Z
END:VEVENT
END:VCALENDAR
