BEGIN:VCALENDAR
VERSION:2.0
METHOD:PUBLISH
BEGIN:VEVENT
UID:WILD_APRICOT_EVENT_2259267_SESSION_1
DTSTART:20160927T230000Z
DTEND:20160928T010000Z
SUMMARY:QBIC School Services Committee Meeting
LOCATION:QBIC Office
DESCRIPTION:https://www.qbic.com.au/event-2259267\n\nQBIC School Services Committee Meeting\n  Where: QBIC Office - 6/96 Cleveland St\, Stones Corner\, QLD 4120\n  When: 28th September 2016\n  Contact: Sarah Muirhead\n  \n\n
DTSTAMP:20200229T145028Z
END:VEVENT
END:VCALENDAR
