BEGIN:VCALENDAR
VERSION:2.0
METHOD:PUBLISH
BEGIN:VEVENT
UID:WILD_APRICOT_EVENT_2259270_SESSION_1
DTSTART:20160928T020000Z
DTEND:20160928T050000Z
SUMMARY:QBIC Management Committee Meeting
LOCATION:QBIC Office
DESCRIPTION:https://www.qbic.com.au/event-2259270\n\nQBIC Management Committee Meeting\n  Where: QBIC Office - 6/96 Cleveland St\, Stones Corner\, QLD 4120\n  When: 28th September 2016\n  Contact: Sarah Muirhead\n  \n\n
DTSTAMP:20200229T145015Z
END:VEVENT
END:VCALENDAR
