BEGIN:VCALENDAR
VERSION:2.0
METHOD:PUBLISH
BEGIN:VEVENT
UID:WILD_APRICOT_EVENT_2259272_SESSION_1
DTSTART:20161004T140000Z
DTEND:20161006T140000Z
SUMMARY:Australasia Bus & Coach Expo Sydney
LOCATION:Sydney
DESCRIPTION:https://www.qbic.com.au/event-2259272\n\nAustralasia Bus & Coach Expo Sydney\n  More information to follow.\n
DTSTAMP:20200229T144955Z
END:VEVENT
END:VCALENDAR
