BEGIN:VCALENDAR
VERSION:2.0
METHOD:PUBLISH
BEGIN:VEVENT
UID:WILD_APRICOT_EVENT_2259275_SESSION_1
DTSTART:20161025T000000Z
DTEND:20161025T020000Z
SUMMARY:QBIC Commercial Contracts Committee Meeting
LOCATION:QBIC Office
DESCRIPTION:https://www.qbic.com.au/event-2259275\n\nQBIC Commercial Contracts Committee Meeting\n  Where: QBIC Office - 6/96 Cleveland St\, Stones Corner\, QLD 4120\n  When: 25th October 2016\n  Contact: Sarah Muirhead\n  \n\n
DTSTAMP:20200229T144937Z
END:VEVENT
END:VCALENDAR
