BEGIN:VCALENDAR
VERSION:2.0
METHOD:PUBLISH
BEGIN:VEVENT
UID:WILD_APRICOT_EVENT_2259281_SESSION_1
DTSTART:20161105T140000Z
DTEND:20161109T140000Z
SUMMARY:BIC National Conference Perth
LOCATION:Perth
DESCRIPTION:https://www.qbic.com.au/event-2259281\n\nBIC National Conference Perth\n  More information to follow.\n
DTSTAMP:20200229T144837Z
END:VEVENT
END:VCALENDAR
