BEGIN:VCALENDAR
VERSION:2.0
METHOD:PUBLISH
BEGIN:VEVENT
UID:WILD_APRICOT_EVENT_2259285_SESSION_1
DTSTART:20161122T000000Z
DTEND:20161122T020000Z
SUMMARY:QBIC Commercial Contracts Committee Meeting
LOCATION:QBIC Office
DESCRIPTION:https://www.qbic.com.au/event-2259285\n\nQBIC Commercial Contracts Committee Meeting\n  Where: QBIC Office - 6/96 Cleveland St\, Stones Corner\, QLD 4120\n  When: 22nd November 2016\n  Contact: Sarah Muirhead\n  \n\n
DTSTAMP:20260424T161457Z
END:VEVENT
END:VCALENDAR
