BEGIN:VCALENDAR
VERSION:2.0
METHOD:PUBLISH
BEGIN:VEVENT
UID:WILD_APRICOT_EVENT_2259287_SESSION_1
DTSTART:20161122T030000Z
DTEND:20161122T050000Z
SUMMARY:QBIC Long Distance Tour & Charter Committee Meeting
LOCATION:QBIC Office
DESCRIPTION:https://www.qbic.com.au/event-2259287\n\nQBIC Long Distance Tour & Charter Committee Meeting\n  Where: QBIC Office - 6/96 Cleveland St\, Stones Corner\, QLD 4120\n  When: 22nd November 2016\n  Contact: Sarah Muirhead\n  \n\n
DTSTAMP:20200229T144804Z
END:VEVENT
END:VCALENDAR
