BEGIN:VCALENDAR
VERSION:2.0
METHOD:PUBLISH
BEGIN:VEVENT
UID:WILD_APRICOT_EVENT_2439035_SESSION_1
DTSTART:20170330T140000Z
DTEND:20170401T140000Z
SUMMARY:QBIC Annual Event 2017
LOCATION:Toowoomba
DESCRIPTION:https://www.qbic.com.au/event-2439035\n\nQBIC Annual Event\n  Friday the 31st of March 2017\n - Golf Day\n - Networking evening event\n\n  Saturday the 1st of April 2017\n - School Summit\n - AGM\n - Pre Dinner Event\n - Gala dinner & Awards night\n\n
DTSTAMP:20200229T144702Z
END:VEVENT
END:VCALENDAR
