BEGIN:VCALENDAR
VERSION:2.0
METHOD:PUBLISH
BEGIN:VEVENT
UID:WILD_APRICOT_EVENT_2439039_SESSION_1
DTSTART:20170218T000000Z
DTEND:20170218T040000Z
SUMMARY:QBIC Regional Forum
LOCATION:Gympie
DESCRIPTION:https://www.qbic.com.au/event-2439039\n\nAll QBIC Members/Supply Partners\n are invited to attend.\n \n DATE:  Saturday 18th February 2017\n LOCATION: Gunabul Homestead\, 9 Power Road\, Southside Gympie QLD\n \n This is a great opportunity to get together with other operators from within your Industry and discuss industry issues relevant to your business. QBIC Secretariat will be there as well as some of our Industry Partners.\n \n 10.00 am -    Meet and greet over coffee & morning tea\n 10.30 am -    Meeting Begins/ Industry Forum\n 12.30 pm -    Lunch (Provided by QBIC)\n 1.30 pm -        Partner/QBIC Member interaction\n    \n We expect the afternoon to conclude at approximately 2pm.\n RSVP by Monday the 13th of February 2017\n\n
DTSTAMP:20200229T144718Z
END:VEVENT
END:VCALENDAR
