BEGIN:VCALENDAR
VERSION:2.0
METHOD:PUBLISH
BEGIN:VEVENT
UID:WILD_APRICOT_EVENT_2439041_SESSION_1
DTSTART:20170608T140000Z
DTEND:20170610T140000Z
SUMMARY:QBIC Regional Forum Chinchilla
LOCATION:Chinchilla Palms Motor Inn
DESCRIPTION:https://www.qbic.com.au/event-2439041\n\n       Friday 9th and Saturday 10th of June 2017\n                 All QBIC Members/Supply Partners\n                              are invited to attend.\n DATE:        Friday the 9th & Saturday 10th of June 2017\n LOCATION:    Chinchilla Palms Motor Inn \n             64-70 Warrego Highway Chinchilla QLD\n \n This is a great opportunity to get together with other operators from within your Industry and discuss industry issues relevant to your business. QBIC Secretariat will be there as well as some of our Industry Partners.\n \n Friday the 9th of June QBIC Members Dinner\n QBIC wishes to host a regional members dinner commencing at 6pm\n \n Saturday the 10th of June / QBIC Member Forum\n 9.30am -       Meet and greet over coffee & morning tea\n 10.00 am -    Meeting Begins/ Industry Forum\n 12.30 pm -    Lunch (Provided by QBIC)\n 1.30 pm -      Partner/QBIC Member interaction\n \n We expect the afternoon to conclude at approximately 1.30pm.\n RSVP is required by Thursday the 1st of June 2017\n
DTSTAMP:20260424T161533Z
END:VEVENT
END:VCALENDAR
