BEGIN:VCALENDAR
VERSION:2.0
METHOD:PUBLISH
BEGIN:VEVENT
UID:WILD_APRICOT_EVENT_2439044_SESSION_1
DTSTART:20170720T140000Z
DTEND:20170721T140000Z
SUMMARY:QBIC Partner Forum Cairns
LOCATION:Cairns
DESCRIPTION:https://www.qbic.com.au/event-2439044\n\nDate Claimer - Details will be provided at a later date\n\n
DTSTAMP:20200229T144628Z
END:VEVENT
END:VCALENDAR
