BEGIN:VCALENDAR
VERSION:2.0
METHOD:PUBLISH
BEGIN:VEVENT
UID:WILD_APRICOT_EVENT_2439046_SESSION_1
DTSTART:20170721T140000Z
DTEND:20170722T140000Z
SUMMARY:QBIC Regional Forum Mareeba
LOCATION:Mareeba
DESCRIPTION:https://www.qbic.com.au/event-2439046\n\nDate Claimer- Details will be provided at a later date\n\n
DTSTAMP:20260424T161628Z
END:VEVENT
END:VCALENDAR
