BEGIN:VCALENDAR
VERSION:2.0
METHOD:PUBLISH
BEGIN:VEVENT
UID:WILD_APRICOT_EVENT_2439054_SESSION_1
DTSTART:20221004T140000Z
DTEND:20221006T140000Z
SUMMARY:Australasia Bus & Coach Expo 2022
LOCATION:Sydney Showground
DESCRIPTION:https://www.qbic.com.au/event-2439054\n\n\n\n                          \n\n          Australasia Bus & Coach EXPO (Sydney) October 5-6 \n          Australasia Bus & Coach Expo Sydney attendees will have an excellent opportunity to evaluate and source different products and services all under the one roof.\n          Location: The Dome & Halls at Sydney Showground\, Sydney Olympic Park NSW 2127\n          Dates: Wednesday 5 & Thursday 6 October 2022\n          Opening Hours: Open to the general public 9.00am until 4.30pm DAILY\n          Expo Entry Cost: Adults and Children – FREE\n          More info can be found on the official Expo website: busandcoachexpo\n                   \n   \n
DTSTAMP:20260424T165030Z
END:VEVENT
END:VCALENDAR
