BEGIN:VCALENDAR
VERSION:2.0
METHOD:PUBLISH
BEGIN:VEVENT
UID:WILD_APRICOT_EVENT_2690172_SESSION_1
DTSTART:20171202T033000Z
DTEND:20171202T073000Z
SUMMARY:VOLVO/QBIC ANNUAL CHRISTMAS FUNCTION
LOCATION:Story Bridge Hotel\, Kangaroo Point - Martini Room
DESCRIPTION:https://www.qbic.com.au/event-2690172\n\n\n \n\n  Come and celebrate the Festive Season in style with Volvo & the Queensland Bus Industry Council.\n  This year’s annual Volvo/QBIC Christmas event will be held at THE STORY BRIDGE HOTEL\, MARTINI LEVEL—KANGAROO POINT.\n  Saturday 2 December 1:30pm—5:30pm\n Tickets $80.00 per person - Ticket includes Canapes\, selected Drinks & Lucky Door prizes drawn throughout the event.\n  To register for this event please contact QBIC by email or phone 07 3397 1700\n\n  DRESS: Smart Casual\n Ticket sales close 16th of November 2017. Cancellations made more than 30 days before the event—Full refund given. Cancellations made 30 days or less prior to the event—No refunds can be offered.\n
DTSTAMP:20260424T161718Z
END:VEVENT
END:VCALENDAR
