BEGIN:VCALENDAR
VERSION:2.0
METHOD:PUBLISH
BEGIN:VEVENT
UID:WILD_APRICOT_EVENT_2690188_SESSION_1
DTSTART:20171111T140000Z
DTEND:20171115T140000Z
SUMMARY:BIC 2017 National Annual Conference
LOCATION:Hobart\, Australia
DESCRIPTION:https://www.qbic.com.au/event-2690188\n\nMoving People Mobility as a Service\n  \n\n  The National Annual Conference for the bus and coach industry includes 2.5 days of plenary with 6 block-buster sessions:\n\n      *     Future Mobility – Opportunity or Hype\n\n      *     Future Scenarios and Government Perspectives\n\n      *     National and International Perspectives\n\n      *     Bus and Future Intelligent Mobility\n\n      *     Bus Operations and Business Tools for the Future\n\n      *     Industry Forum\n\nVisit the BIC Website for more information\n
DTSTAMP:20200229T144544Z
END:VEVENT
END:VCALENDAR
