BEGIN:VCALENDAR
VERSION:2.0
METHOD:PUBLISH
BEGIN:VEVENT
UID:WILD_APRICOT_EVENT_2690245_SESSION_1
DTSTART:20190411T140000Z
DTEND:20190413T140000Z
SUMMARY:QBIC Conference 2019
LOCATION:The Ville Resort-Casino\, Townsville
DESCRIPTION:https://www.qbic.com.au/event-2690245\n\n\n\n  QBIC will host its annual conference "A Changing Landscape" at the Ville Resort Townsville over the 12th & 13th of April 2019. The objective of the conference is to take our Members on a journey\, a journey on how we must adapt going forward to ensure business continuity and service viability.\n\n  Friday 12th April - Custom Bus Golf Day\, Rowes Bay Golf Club\, The Golf Day will consist of an 18 hole 4 ball Ambrose Tournament with a shotgun start. Registration includes morning bacon & egg burgers\, drinks on the course\, lunch and Awards presentations. \n  Friday 12th April - Volvo Welcome Reception\, The Ville - Poolside Lawns\, Volvo will welcome Conference Delegates to tropical North Queensland with the Volvo Welcome Reception. Enjoy a relaxed evening catching up with friends and colleagues with views over the Coral Sea\, delight in a feast of flavours and a chilled beverage or two FNQ style.\n\n  Saturday 13th April - Mobitec QBIC Conference and AGM\, The Ville\, QBIC endeavours to deliver a program that is balanced and informative across all Member sectors\, supported by a fantastic social program.\n  Saturday 13th April - Impact Wrap Gala Dinner & Awards Evening\, The Ville - Resort Pavilion 2 & 3 -  QBIC Delegates will enjoy a night of style and glamour at the Annual QBIC Gala Dinner & Awards Evening. Take pleasure in a delicious 3 course dinner and tempting drinks menu while we present the Queensland State Industry Awards celebrating excellence in the Queensland Bus Industry.\n  For more information and register click here.\n
DTSTAMP:20200229T144422Z
END:VEVENT
END:VCALENDAR
