BEGIN:VCALENDAR
VERSION:2.0
METHOD:PUBLISH
BEGIN:VEVENT
UID:WILD_APRICOT_EVENT_2861724_SESSION_1
DTSTART:20220910T000000Z
DTEND:20220910T030000Z
SUMMARY:Regional Members Forum - Chinchilla
LOCATION:Chinchilla RSL
DESCRIPTION:https://www.qbic.com.au/event-2861724\n\n\n\n  All QBIC Members and Supply Partners are invited to join the QBIC Regional Members Forum\, Chinchilla Region. This is a great opportunity to get together with other operators from within your Industry and discuss industry issues relevant to your business. QBIC will provide an update on current issues and initiatives in the Queensland bus Industry. In our 2022 regional member forums\, learn about the importance of using sound risk management to inform decision making. In these interactive workshops\, you will be shown practical methods of integrating a variety of compliance requirements\, including Chain of Responsibility and COVID-19\, into your existing WHS practices\, presented by Shelley Dale from Shelley Dale OHS Services.\n  LOCATION: Chinchilla RSL Memorial Club\, 61 Heeney St\, Chinchilla QLD 4413\n  DATE: Saturday 10th September 2022\n  TIME: 10.00am\n  RSVP with details of attendees and any dietary requirements required by Friday 26th of August 2022\n  Please contact Sarah on 07 3397 1700 or info@qbic.com.au for more information or to register your attendance.\n\n  \n\n
DTSTAMP:20260424T175741Z
END:VEVENT
END:VCALENDAR
