BEGIN:VCALENDAR
VERSION:2.0
METHOD:PUBLISH
BEGIN:VEVENT
UID:WILD_APRICOT_EVENT_2861737_SESSION_1
DTSTART:20200729T000000Z
DTEND:20200729T000000Z
SUMMARY:QBIC Members Forum & APTIA Passenger Vehicle Transportation Award 2020 Presentation
LOCATION:Zoom Video/Teleconferencing
DESCRIPTION:https://www.qbic.com.au/event-2861737\n\nAll QBIC Members and Supply Partners are invited to join the QBIC Member Forum & APTIA Passenger Vehicle Transportation Award 2020 Presentation . Member Forums are a great opportunity to discuss issues relevant to your industry and keep up to date with the work QBIC is doing on behalf of its Members. Ian MacDonald\, APTIA National IR Manager will provide a presentation and Q & A on new PVTA\, the minimum wage increase and the issue of casual employment. This Forum will be held on Wednesday 29th of July at 10:00am Via Zoom Video/Teleconferencing. Please use the form below to register your attendance.  This Forum will be held is Zoom Video/Teleconferencing\, if you would like further details on how to register please contact the QBIC Office\n  Location: Zoom Video/Teleconferencing\n  Date: Wednesday 29th of July\n  Time: 10.00 am\n  \n\n
DTSTAMP:20260424T163546Z
END:VEVENT
END:VCALENDAR
