BEGIN:VCALENDAR
VERSION:2.0
METHOD:PUBLISH
BEGIN:VEVENT
UID:WILD_APRICOT_EVENT_3586435_SESSION_1
DTSTART:20220407T140000Z
DTEND:20220409T140000Z
SUMMARY:QBIC Conference 2022
LOCATION:Sofitel Brisbane Central
DESCRIPTION:https://www.qbic.com.au/event-3586435\n\n\n  QBIC Conference 2022 - Driving a Cleaner Future\n  QBIC will host its annual conference\, “Driving a Cleaner Future”\, at the Sofitel Brisbane\, over the 8th and 9th of April 2022. The conference will also showcase 100 years of Industry representation in Queensland\, including Industry’s 100 year journey transitioning from fossil fuel to electric and hydrogen electric technologies.\n  Click here for more information\n
DTSTAMP:20260424T174424Z
END:VEVENT
END:VCALENDAR
