BEGIN:VCALENDAR
VERSION:2.0
METHOD:PUBLISH
BEGIN:VEVENT
UID:WILD_APRICOT_EVENT_3644935_SESSION_1
DTSTART:20221125T140000Z
DTEND:20221126T140000Z
SUMMARY:QBIC Christmas Event 2022
LOCATION:
DESCRIPTION:https://www.qbic.com.au/event-3644935\n\n\n  Come and celebrate the festive season in style with QBIC and event sponsor BLK Auto\n  When: Saturday 26th of November 2022\n  Time: 12pm  - 5pm\n  Location: Ipswich Turf Club\n  For more information and bookings contact E:info@qbic.com.au or P: 07 3397 1700\n  A bus will be provided from a designated Brisbane CBD location and return\, please advise when booking if your require bus transport.\n  RSVP by the 16th November\nTickets on sale now
DTSTAMP:20260424T161925Z
END:VEVENT
END:VCALENDAR
