BEGIN:VCALENDAR
VERSION:2.0
METHOD:PUBLISH
BEGIN:VEVENT
UID:WILD_APRICOT_EVENT_3737555_SESSION_1
DTSTART:20220611T000000Z
DTEND:20220611T000000Z
SUMMARY:Regional Members Forum - Maryborough
LOCATION:Maryborough Services & Citizens Memorial Club
DESCRIPTION:https://www.qbic.com.au/event-3737555\n\n\n\n  All QBIC Operator Members and Supply Partners are invited to join the QBIC Regional Members Forum\, Maryborough Region. This is a great opportunity to get together with other operators from within your Industry and discuss industry issues relevant to your business.\n  Click here to download the invitation\n  LOCATION: \n  Maryborough Services & Citizens Memorial Club\, 163 -175 Lennox St\, Maryborough QLD\n  DATE: Saturday 11th of June 2022\n  TIME: 10.00am\n  RSVP is required by Wednesday 1st of June 2022\n  Please contact Sarah on 07 3397 1700 or info@qbic.com.au for more information or to register your attendance.\n\n
DTSTAMP:20260424T180117Z
END:VEVENT
END:VCALENDAR
