BEGIN:VCALENDAR
VERSION:2.0
METHOD:PUBLISH
BEGIN:VEVENT
UID:WILD_APRICOT_EVENT_2753359_SESSION_1
DTSTART:20200619T140000Z
DTEND:20200620T140000Z
SUMMARY:Regional Members Forum - Rockhampton
LOCATION:Empire Apartment Hotel\, Rockhampton
DESCRIPTION:https://www.qbic.com.au/event-2753359\n\n\n\n  All QBIC Members/Supply Partners are invited to attend.\n  This is a great opportunity to get together with other operators from within your Industry and discuss industry issues relevant to your business.  QBIC Secretariat will be there as well as some of our Industry Partners. \n  LOCATION: Empire Apartment Hotel - 5 East St\, Rockhampton City QLD 4700\n  DATE: Saturday 20th June 2020\n  TIME: 9.00 am\n  RSVP is required by Tuesday 9th of June 2020\n  \n\n  \n\n  \n\n  \n\n  \n\n  \n\n
DTSTAMP:20200229T151352Z
END:VEVENT
END:VCALENDAR
